BEGIN:VCALENDAR
VERSION:2.0
PRODID:Events Booking
BEGIN:VEVENT
UID:69ea451c86b17
SUMMARY:Prima Summer School di METROFOOD-IT
DESCRIPTION:L'infrastruttura di ricerca METROFOOD-IT\, in collaborazione co
 n Sapienza Università di Roma ed ENEA e con il supporto del Comune di San
  Gemini (Terni)\, organizza la sua prima Summer School dedicata alle azien
 de della filiera agroalimentare\, che avrà un focus sulle soluzioni innov
 ative per il controllo qualità e la certificazione dei prodotti.
DTSTART:20250529T080000Z
DTEND:20250530T143000Z
DTSTAMP:20250403T130537Z
ORGANIZER;CN=Metrofood.it:MAILTO:noreply.rel-prom@enea.it
END:VEVENT
END:VCALENDAR